BEGIN:VCALENDAR
VERSION:2.0
PRODID:-//CERN//INDICO//EN
BEGIN:VEVENT
SUMMARY:Quantitative geomorphology\, examples from Southeast Asia
DTSTART;VALUE=DATE-TIME:20171214T143000Z
DTEND;VALUE=DATE-TIME:20171214T153000Z
DTSTAMP;VALUE=DATE-TIME:20240229T175011Z
UID:indico-contribution-23@ictp.it
DESCRIPTION:Speakers: ANNE REPLUMAZ (Universite Grenoble Alpes\, France)\n
 //indico.ictp.it/event/8176/session/3/contribution/23
LOCATION:Hanoi - Viet Nam
URL://indico.ictp.it/event/8176/session/3/contribution/23
END:VEVENT
END:VCALENDAR
