BEGIN:VCALENDAR
VERSION:2.0
PRODID:-//CERN//INDICO//EN
BEGIN:VEVENT
SUMMARY:Some remarks concerning orthogonality in seismology (history and p
 roblems)
DTSTART;VALUE=DATE-TIME:20171218T130000Z
DTEND;VALUE=DATE-TIME:20171218T140000Z
DTSTAMP;VALUE=DATE-TIME:20240229T175437Z
UID:indico-contribution-31@ictp.it
DESCRIPTION:Speakers: PETER MALISCHEWSKY (Friedrich-Schiller-Universität\
 , Germany)\n//indico.ictp.it/event/8176/session/7/contribution/31
LOCATION:Hanoi - Viet Nam
URL://indico.ictp.it/event/8176/session/7/contribution/31
END:VEVENT
END:VCALENDAR
