BEGIN:VCALENDAR
VERSION:2.0
PRODID:-//CERN//INDICO//EN
BEGIN:VEVENT
SUMMARY:Continental Deformation: GPS Geodesy and kinematics and dynamics o
 f the deformation
DTSTART;VALUE=DATE-TIME:20171219T080000Z
DTEND;VALUE=DATE-TIME:20171219T090000Z
DTSTAMP;VALUE=DATE-TIME:20240229T175226Z
UID:indico-contribution-8-0-34@ictp.it
DESCRIPTION:Speakers: ABDELKRIM AOUDIA\, FARHAN JAVED (ICTP\, Italy)\n//in
 dico.ictp.it/event/8176/session/8/contribution/34
LOCATION:Hanoi - Viet Nam
URL://indico.ictp.it/event/8176/session/8/contribution/34
END:VEVENT
BEGIN:VEVENT
SUMMARY:Case studies: coseismic\, interseismic and transients
DTSTART;VALUE=DATE-TIME:20171219T090000Z
DTEND;VALUE=DATE-TIME:20171219T100000Z
DTSTAMP;VALUE=DATE-TIME:20240229T175226Z
UID:indico-contribution-8-0-35@ictp.it
DESCRIPTION:Speakers: ABDELKRIM AOUDIA\, FARHAN JAVED (ICTP\, Italy)\n//in
 dico.ictp.it/event/8176/session/8/contribution/35
LOCATION:Hanoi - Viet Nam
URL://indico.ictp.it/event/8176/session/8/contribution/35
END:VEVENT
BEGIN:VEVENT
SUMMARY:Earthquake resilience and risk communication
DTSTART;VALUE=DATE-TIME:20171219T103000Z
DTEND;VALUE=DATE-TIME:20171219T113000Z
DTSTAMP;VALUE=DATE-TIME:20240229T175226Z
UID:indico-contribution-8-0-36@ictp.it
DESCRIPTION:Speakers: ABDELKRIM AOUDIA (ICTP\, Italy)\n//indico.ictp.it/ev
 ent/8176/session/8/contribution/36
LOCATION:Hanoi - Viet Nam
URL://indico.ictp.it/event/8176/session/8/contribution/36
END:VEVENT
BEGIN:VEVENT
SUMMARY:Participant presentations and open discussion
DTSTART;VALUE=DATE-TIME:20171219T130000Z
DTEND;VALUE=DATE-TIME:20171219T150000Z
DTSTAMP;VALUE=DATE-TIME:20240229T175226Z
UID:indico-contribution-8-0-37@ictp.it
DESCRIPTION:Speakers: ALL ()\n//indico.ictp.it/event/8176/session/8/contri
 bution/37
LOCATION:Hanoi - Viet Nam
URL://indico.ictp.it/event/8176/session/8/contribution/37
END:VEVENT
BEGIN:VEVENT
SUMMARY:Participant presentations and open discussion
DTSTART;VALUE=DATE-TIME:20171219T153000Z
DTEND;VALUE=DATE-TIME:20171219T170000Z
DTSTAMP;VALUE=DATE-TIME:20240229T175226Z
UID:indico-contribution-8-0-38@ictp.it
DESCRIPTION:Speakers: ALL ()\n//indico.ictp.it/event/8176/session/8/contri
 bution/38
LOCATION:Hanoi - Viet Nam
URL://indico.ictp.it/event/8176/session/8/contribution/38
END:VEVENT
END:VCALENDAR
