BEGIN:VCALENDAR
VERSION:2.0
PRODID:-//CERN//INDICO//EN
BEGIN:VEVENT
SUMMARY:Earthquakes: General Ideas
DTSTART;VALUE=DATE-TIME:20171220T090000Z
DTEND;VALUE=DATE-TIME:20171220T100000Z
DTSTAMP;VALUE=DATE-TIME:20240229T175013Z
UID:indico-contribution-40@ictp.it
DESCRIPTION:Speakers: EMILE OKAL (Northwestern University\, USA)\n//indico
 .ictp.it/event/8176/session/9/contribution/40
LOCATION:Hanoi - Viet Nam
URL://indico.ictp.it/event/8176/session/9/contribution/40
END:VEVENT
END:VCALENDAR
