BEGIN:VCALENDAR
VERSION:2.0
PRODID:-//CERN//INDICO//EN
BEGIN:VEVENT
SUMMARY:Tsunami generalia
DTSTART;VALUE=DATE-TIME:20171220T080000Z
DTEND;VALUE=DATE-TIME:20171220T090000Z
DTSTAMP;VALUE=DATE-TIME:20240229T175435Z
UID:indico-contribution-9-0-39@ictp.it
DESCRIPTION:Speakers: EMILE OKAL (Northwestern University\, USA)\n//indico
 .ictp.it/event/8176/session/9/contribution/39
LOCATION:Hanoi - Viet Nam
URL://indico.ictp.it/event/8176/session/9/contribution/39
END:VEVENT
BEGIN:VEVENT
SUMMARY:Earthquakes: General Ideas
DTSTART;VALUE=DATE-TIME:20171220T090000Z
DTEND;VALUE=DATE-TIME:20171220T100000Z
DTSTAMP;VALUE=DATE-TIME:20240229T175435Z
UID:indico-contribution-9-0-40@ictp.it
DESCRIPTION:Speakers: EMILE OKAL (Northwestern University\, USA)\n//indico
 .ictp.it/event/8176/session/9/contribution/40
LOCATION:Hanoi - Viet Nam
URL://indico.ictp.it/event/8176/session/9/contribution/40
END:VEVENT
BEGIN:VEVENT
SUMMARY:Earthquakes: Detection\, Location\, Focal Mechanisms
DTSTART;VALUE=DATE-TIME:20171220T103000Z
DTEND;VALUE=DATE-TIME:20171220T113000Z
DTSTAMP;VALUE=DATE-TIME:20240229T175435Z
UID:indico-contribution-9-0-41@ictp.it
DESCRIPTION:Speakers: EMILE OKAL (Northwestern University\, USA)\n//indico
 .ictp.it/event/8176/session/9/contribution/41
LOCATION:Hanoi - Viet Nam
URL://indico.ictp.it/event/8176/session/9/contribution/41
END:VEVENT
BEGIN:VEVENT
SUMMARY:Earthquakes: Quantification\, Seismic scaling laws
DTSTART;VALUE=DATE-TIME:20171220T130000Z
DTEND;VALUE=DATE-TIME:20171220T140000Z
DTSTAMP;VALUE=DATE-TIME:20240229T175435Z
UID:indico-contribution-9-0-42@ictp.it
DESCRIPTION:Speakers: EMILE OKAL (Northwestern University\, USA)\n//indico
 .ictp.it/event/8176/session/9/contribution/42
LOCATION:Hanoi - Viet Nam
URL://indico.ictp.it/event/8176/session/9/contribution/42
END:VEVENT
BEGIN:VEVENT
SUMMARY:Modelling tsunamis from seismic sources
DTSTART;VALUE=DATE-TIME:20171220T140000Z
DTEND;VALUE=DATE-TIME:20171220T150000Z
DTSTAMP;VALUE=DATE-TIME:20240229T175435Z
UID:indico-contribution-9-0-43@ictp.it
DESCRIPTION:Speakers: EMILE OKAL (Northwestern University\, USA)\n//indico
 .ictp.it/event/8176/session/9/contribution/43
LOCATION:Hanoi - Viet Nam
URL://indico.ictp.it/event/8176/session/9/contribution/43
END:VEVENT
BEGIN:VEVENT
SUMMARY:Landslide tsunamis
DTSTART;VALUE=DATE-TIME:20171220T153000Z
DTEND;VALUE=DATE-TIME:20171220T163000Z
DTSTAMP;VALUE=DATE-TIME:20240229T175435Z
UID:indico-contribution-9-0-44@ictp.it
DESCRIPTION:Speakers: EMILE OKAL (Northwestern University\, USA)\n//indico
 .ictp.it/event/8176/session/9/contribution/44
LOCATION:Hanoi - Viet Nam
URL://indico.ictp.it/event/8176/session/9/contribution/44
END:VEVENT
END:VCALENDAR
