BEGIN:VCALENDAR
VERSION:2.0
PRODID:-//CERN//INDICO//EN
BEGIN:VEVENT
SUMMARY:Foundation of Modern Computer Architecture
DTSTART;VALUE=DATE-TIME:20180212T110000Z
DTEND;VALUE=DATE-TIME:20180212T120000Z
DTSTAMP;VALUE=DATE-TIME:20240229T173630Z
UID:indico-contribution-205@ictp.it
DESCRIPTION:Speakers: IVAN GIROTTO (ICTP\, Trieste)\n//indico.ictp.it/even
 t/8344/session/50/contribution/205
LOCATION: - Mexico
URL://indico.ictp.it/event/8344/session/50/contribution/205
END:VEVENT
END:VCALENDAR
