BEGIN:VCALENDAR
VERSION:2.0
PRODID:-//CERN//INDICO//EN
BEGIN:VEVENT
SUMMARY:Practical MPI
DTSTART;VALUE=DATE-TIME:20180215T103000Z
DTEND;VALUE=DATE-TIME:20180215T120000Z
DTSTAMP;VALUE=DATE-TIME:20240229T173616Z
UID:indico-contribution-217@ictp.it
DESCRIPTION:Speakers: GAVIN PRINGLE (EPCC\, Edinburgh)\n//indico.ictp.it/e
 vent/8344/session/53/contribution/217
LOCATION: - Mexico
URL://indico.ictp.it/event/8344/session/53/contribution/217
END:VEVENT
END:VCALENDAR
