BEGIN:VCALENDAR
VERSION:2.0
PRODID:-//CERN//INDICO//EN
BEGIN:VEVENT
SUMMARY:Working on Projects
DTSTART;VALUE=DATE-TIME:20180221T130000Z
DTEND;VALUE=DATE-TIME:20180221T150000Z
DTSTAMP;VALUE=DATE-TIME:20240229T173554Z
UID:indico-contribution-236@ictp.it
DESCRIPTION:Speakers: \n//indico.ictp.it/event/8344/session/57/contributio
 n/236
LOCATION: - Mexico
URL://indico.ictp.it/event/8344/session/57/contribution/236
END:VEVENT
END:VCALENDAR
