BEGIN:VCALENDAR
VERSION:2.0
PRODID:-//CERN//INDICO//EN
BEGIN:VEVENT
SUMMARY:Working on Projects
DTSTART;VALUE=DATE-TIME:20180221T153000Z
DTEND;VALUE=DATE-TIME:20180221T173000Z
DTSTAMP;VALUE=DATE-TIME:20240229T173656Z
UID:indico-contribution-237@ictp.it
DESCRIPTION:Speakers: \n//indico.ictp.it/event/8344/session/57/contributio
 n/237
LOCATION: - Mexico
URL://indico.ictp.it/event/8344/session/57/contribution/237
END:VEVENT
END:VCALENDAR
