BEGIN:VCALENDAR
VERSION:2.0
PRODID:-//CERN//INDICO//EN
BEGIN:VEVENT
SUMMARY:Future of Programming Paradigms
DTSTART;VALUE=DATE-TIME:20180222T111500Z
DTEND;VALUE=DATE-TIME:20180222T120000Z
DTSTAMP;VALUE=DATE-TIME:20240229T173515Z
UID:indico-contribution-240@ictp.it
DESCRIPTION:Speakers: JIMMY AGUILAR MENA (Barcelona Supercomputing Center)
 \n//indico.ictp.it/event/8344/session/58/contribution/240
LOCATION: - Mexico
URL://indico.ictp.it/event/8344/session/58/contribution/240
END:VEVENT
END:VCALENDAR
