BEGIN:VCALENDAR
VERSION:2.0
PRODID:-//CERN//INDICO//EN
BEGIN:VEVENT
SUMMARY:Modern Scientific SW Development: how to and best practises from t
 he development of the dealII\, including future prospectives
DTSTART;VALUE=DATE-TIME:20180223T083000Z
DTEND;VALUE=DATE-TIME:20180223T100000Z
DTSTAMP;VALUE=DATE-TIME:20240229T173338Z
UID:indico-contribution-59-0-243@ictp.it
DESCRIPTION:Speakers: WOLFGANG BANGERTH (Colorado State University\, Fort 
 Collins)\n//indico.ictp.it/event/8344/session/59/contribution/243
LOCATION: - Mexico
URL://indico.ictp.it/event/8344/session/59/contribution/243
END:VEVENT
BEGIN:VEVENT
SUMMARY:Projects Presentation
DTSTART;VALUE=DATE-TIME:20180223T103000Z
DTEND;VALUE=DATE-TIME:20180223T120000Z
DTSTAMP;VALUE=DATE-TIME:20240229T173338Z
UID:indico-contribution-59-0-244@ictp.it
DESCRIPTION:Speakers: \n//indico.ictp.it/event/8344/session/59/contributio
 n/244
LOCATION: - Mexico
URL://indico.ictp.it/event/8344/session/59/contribution/244
END:VEVENT
BEGIN:VEVENT
SUMMARY:Closing remarks
DTSTART;VALUE=DATE-TIME:20180223T120000Z
DTEND;VALUE=DATE-TIME:20180223T121000Z
DTSTAMP;VALUE=DATE-TIME:20240229T173338Z
UID:indico-contribution-59-0-245@ictp.it
DESCRIPTION:Speakers: \n//indico.ictp.it/event/8344/session/59/contributio
 n/245
LOCATION: - Mexico
URL://indico.ictp.it/event/8344/session/59/contribution/245
END:VEVENT
END:VCALENDAR
