BEGIN:VCALENDAR
VERSION:2.0
PRODID:-//CERN//INDICO//EN
BEGIN:VEVENT
SUMMARY:Pitfalls of Floating-Point Maths
DTSTART;VALUE=DATE-TIME:20180430T120000Z
DTEND;VALUE=DATE-TIME:20180430T140000Z
DTSTAMP;VALUE=DATE-TIME:20240229T172340Z
UID:indico-contribution-119@ictp.it
DESCRIPTION:Speakers: A. CORBETTA (Technische Universiteit Eindhoven)\n//i
 ndico.ictp.it/event/8346/session/31/contribution/119
LOCATION:Sharif University of Technology Physics Department
URL://indico.ictp.it/event/8346/session/31/contribution/119
END:VEVENT
END:VCALENDAR
