BEGIN:VCALENDAR
VERSION:2.0
PRODID:-//CERN//INDICO//EN
BEGIN:VEVENT
SUMMARY:Makefiles
DTSTART;VALUE=DATE-TIME:20180430T143000Z
DTEND;VALUE=DATE-TIME:20180430T153000Z
DTSTAMP;VALUE=DATE-TIME:20240229T172344Z
UID:indico-contribution-120@ictp.it
DESCRIPTION:Speakers: A. FARNUDI (Sharif University of Technology)\n//indi
 co.ictp.it/event/8346/session/31/contribution/120
LOCATION:Sharif University of Technology Physics Department
URL://indico.ictp.it/event/8346/session/31/contribution/120
END:VEVENT
END:VCALENDAR
