BEGIN:VCALENDAR
VERSION:2.0
PRODID:-//CERN//INDICO//EN
BEGIN:VEVENT
SUMMARY:Git introduction
DTSTART;VALUE=DATE-TIME:20180505T073000Z
DTEND;VALUE=DATE-TIME:20180505T083000Z
DTSTAMP;VALUE=DATE-TIME:20240229T172405Z
UID:indico-contribution-34-0-126@ictp.it
DESCRIPTION:Speakers: A. CORBETTA (Technische Universiteit Eindhoven)\n//i
 ndico.ictp.it/event/8346/session/34/contribution/126
LOCATION:Sharif University of Technology Physics Department
URL://indico.ictp.it/event/8346/session/34/contribution/126
END:VEVENT
BEGIN:VEVENT
SUMMARY:Introduction to Programming Projects
DTSTART;VALUE=DATE-TIME:20180505T083000Z
DTEND;VALUE=DATE-TIME:20180505T084500Z
DTSTAMP;VALUE=DATE-TIME:20240229T172405Z
UID:indico-contribution-34-0-127@ictp.it
DESCRIPTION:Speakers: ALL INSTRUCTORS ()\n//indico.ictp.it/event/8346/sess
 ion/34/contribution/127
LOCATION:Sharif University of Technology Physics Department
URL://indico.ictp.it/event/8346/session/34/contribution/127
END:VEVENT
BEGIN:VEVENT
SUMMARY:Introduction to Programming Projects\; set up project git reposito
 ries
DTSTART;VALUE=DATE-TIME:20180505T091500Z
DTEND;VALUE=DATE-TIME:20180505T103000Z
DTSTAMP;VALUE=DATE-TIME:20240229T172405Z
UID:indico-contribution-34-0-128@ictp.it
DESCRIPTION:Speakers: A. CORBETTA (Technische Universiteit Eindhoven)\n//i
 ndico.ictp.it/event/8346/session/34/contribution/128
LOCATION:Sharif University of Technology Physics Department
URL://indico.ictp.it/event/8346/session/34/contribution/128
END:VEVENT
BEGIN:VEVENT
SUMMARY:Hands-on: Work on Group Projects
DTSTART;VALUE=DATE-TIME:20180505T120000Z
DTEND;VALUE=DATE-TIME:20180505T140000Z
DTSTAMP;VALUE=DATE-TIME:20240229T172405Z
UID:indico-contribution-34-0-129@ictp.it
DESCRIPTION:Speakers: \n//indico.ictp.it/event/8346/session/34/contributio
 n/129
LOCATION:Sharif University of Technology Physics Department
URL://indico.ictp.it/event/8346/session/34/contribution/129
END:VEVENT
BEGIN:VEVENT
SUMMARY:Hands-on: Work on Group Projects
DTSTART;VALUE=DATE-TIME:20180505T143000Z
DTEND;VALUE=DATE-TIME:20180505T163000Z
DTSTAMP;VALUE=DATE-TIME:20240229T172405Z
UID:indico-contribution-34-0-130@ictp.it
DESCRIPTION:Speakers: \n//indico.ictp.it/event/8346/session/34/contributio
 n/130
LOCATION:Sharif University of Technology Physics Department
URL://indico.ictp.it/event/8346/session/34/contribution/130
END:VEVENT
END:VCALENDAR
