BEGIN:VCALENDAR
VERSION:2.0
PRODID:-//CERN//INDICO//EN
BEGIN:VEVENT
SUMMARY:Real-world Uses of Scientific Programming and SW project Managemen
 t: -Rivet/Herwig (D. Grellscheid) - LBE3D (A. Corbetta)
DTSTART;VALUE=DATE-TIME:20180508T073000Z
DTEND;VALUE=DATE-TIME:20180508T084500Z
DTSTAMP;VALUE=DATE-TIME:20240229T172510Z
UID:indico-contribution-37-0-139@ictp.it
DESCRIPTION:Speakers: D. GRELLSCHEID\, A. CORBETTA (University of Durham\,
  Technische Universiteit Eindhoven)\n//indico.ictp.it/event/8346/session/3
 7/contribution/139
LOCATION:Sharif University of Technology Physics Department
URL://indico.ictp.it/event/8346/session/37/contribution/139
END:VEVENT
BEGIN:VEVENT
SUMMARY:to be announced
DTSTART;VALUE=DATE-TIME:20180508T091500Z
DTEND;VALUE=DATE-TIME:20180508T103000Z
DTSTAMP;VALUE=DATE-TIME:20240229T172510Z
UID:indico-contribution-37-0-140@ictp.it
DESCRIPTION:Speakers: \n//indico.ictp.it/event/8346/session/37/contributio
 n/140
LOCATION:Sharif University of Technology Physics Department
URL://indico.ictp.it/event/8346/session/37/contribution/140
END:VEVENT
BEGIN:VEVENT
SUMMARY:Hands-on: Work on Group Projects
DTSTART;VALUE=DATE-TIME:20180508T120000Z
DTEND;VALUE=DATE-TIME:20180508T140000Z
DTSTAMP;VALUE=DATE-TIME:20240229T172510Z
UID:indico-contribution-37-0-141@ictp.it
DESCRIPTION:Speakers: \n//indico.ictp.it/event/8346/session/37/contributio
 n/141
LOCATION:Sharif University of Technology Physics Department
URL://indico.ictp.it/event/8346/session/37/contribution/141
END:VEVENT
BEGIN:VEVENT
SUMMARY:Hands-on: Work on Group Projects
DTSTART;VALUE=DATE-TIME:20180508T143000Z
DTEND;VALUE=DATE-TIME:20180508T163000Z
DTSTAMP;VALUE=DATE-TIME:20240229T172510Z
UID:indico-contribution-37-0-142@ictp.it
DESCRIPTION:Speakers: \n//indico.ictp.it/event/8346/session/37/contributio
 n/142
LOCATION:Sharif University of Technology Physics Department
URL://indico.ictp.it/event/8346/session/37/contribution/142
END:VEVENT
END:VCALENDAR
