BEGIN:VCALENDAR
VERSION:2.0
PRODID:-//CERN//INDICO//EN
BEGIN:VEVENT
SUMMARY:Spectroscopy of polymers for opv
DTSTART;VALUE=DATE-TIME:20181017T100000Z
DTEND;VALUE=DATE-TIME:20181017T103000Z
DTSTAMP;VALUE=DATE-TIME:20240229T163928Z
UID:indico-contribution-17@ictp.it
DESCRIPTION:Speakers: TBA ()\nChair person: Dr. Asefa Sergawi  \nFacilitat
 or: Dr. Getachew Adam\n\n//indico.ictp.it/event/8352/session/2/contributio
 n/17
LOCATION:Addis Ababa - Ethiopia
URL://indico.ictp.it/event/8352/session/2/contribution/17
END:VEVENT
END:VCALENDAR
