BEGIN:VCALENDAR
VERSION:2.0
PRODID:-//CERN//INDICO//EN
BEGIN:VEVENT
SUMMARY:The Dynamic Integration of Renewable Energy Generation and Syngas 
 Chemistry
DTSTART;VALUE=DATE-TIME:20181018T080000Z
DTEND;VALUE=DATE-TIME:20181018T083000Z
DTSTAMP;VALUE=DATE-TIME:20240229T163958Z
UID:indico-contribution-22@ictp.it
DESCRIPTION:Speakers: DR. CHALACHEW ()\nChair person: Dr. Siraye Esubalew 
    \nFacilitator: Dr. Getachew Adam\n\n//indico.ictp.it/event/8352/session
 /3/contribution/22
LOCATION:Addis Ababa - Ethiopia
URL://indico.ictp.it/event/8352/session/3/contribution/22
END:VEVENT
END:VCALENDAR
