BEGIN:VCALENDAR
VERSION:2.0
PRODID:-//CERN//INDICO//EN
BEGIN:VEVENT
SUMMARY:Emerging PV-technologies - potentials and limitations
DTSTART;VALUE=DATE-TIME:20181018T090000Z
DTEND;VALUE=DATE-TIME:20181018T100000Z
DTSTAMP;VALUE=DATE-TIME:20240229T164013Z
UID:indico-contribution-23@ictp.it
DESCRIPTION:Speakers: PROF. SCHARBER ()\nChair person: Dr. Asefa Sergawi  
 \nFacilitator: Dr. Getachew Adam\n\n//indico.ictp.it/event/8352/session/3/
 contribution/23
LOCATION:Addis Ababa - Ethiopia
URL://indico.ictp.it/event/8352/session/3/contribution/23
END:VEVENT
END:VCALENDAR
