BEGIN:VCALENDAR
VERSION:2.0
PRODID:-//CERN//INDICO//EN
BEGIN:VEVENT
SUMMARY:High performance ternary blend all polymer solar cells
DTSTART;VALUE=DATE-TIME:20181019T080000Z
DTEND;VALUE=DATE-TIME:20181019T083000Z
DTSTAMP;VALUE=DATE-TIME:20240229T163918Z
UID:indico-contribution-29@ictp.it
DESCRIPTION:Speakers: DR. ZEWUDNEH ()\nChair person: Dr. Siraye Esubalew  
   \nFacilitator: Dr. Getachew Adam\n\n//indico.ictp.it/event/8352/session/
 4/contribution/29
LOCATION:Addis Ababa - Ethiopia
URL://indico.ictp.it/event/8352/session/4/contribution/29
END:VEVENT
END:VCALENDAR
