BEGIN:VCALENDAR
VERSION:2.0
PRODID:-//CERN//INDICO//EN
BEGIN:VEVENT
SUMMARY:TBA
DTSTART;VALUE=DATE-TIME:20181019T100000Z
DTEND;VALUE=DATE-TIME:20181019T103000Z
DTSTAMP;VALUE=DATE-TIME:20240229T164002Z
UID:indico-contribution-31@ictp.it
DESCRIPTION:Speakers: MR. ABDUDIN GEREMU ()\nChair person: Dr. Asefa Serga
 wi  \nFacilitator: Dr. Getachew Adam\n\n//indico.ictp.it/event/8352/sessio
 n/4/contribution/31
LOCATION:Addis Ababa - Ethiopia
URL://indico.ictp.it/event/8352/session/4/contribution/31
END:VEVENT
END:VCALENDAR
