BEGIN:VCALENDAR
VERSION:2.0
PRODID:-//CERN//INDICO//EN
BEGIN:VEVENT
SUMMARY:Registration
DTSTART;VALUE=DATE-TIME:20181022T063000Z
DTEND;VALUE=DATE-TIME:20181022T070000Z
DTSTAMP;VALUE=DATE-TIME:20240229T162838Z
UID:indico-contribution-105@ictp.it
DESCRIPTION:Speakers: \n//indico.ictp.it/event/8354/session/22/contributio
 n/105
LOCATION:Addis Ababa - 
URL://indico.ictp.it/event/8354/session/22/contribution/105
END:VEVENT
END:VCALENDAR
