BEGIN:VCALENDAR
VERSION:2.0
PRODID:-//CERN//INDICO//EN
BEGIN:VEVENT
SUMMARY:Registration
DTSTART;VALUE=DATE-TIME:20181022T063000Z
DTEND;VALUE=DATE-TIME:20181022T070000Z
DTSTAMP;VALUE=DATE-TIME:20240229T162830Z
UID:indico-contribution-22-0-105@ictp.it
DESCRIPTION:Speakers: \n//indico.ictp.it/event/8354/session/22/contributio
 n/105
LOCATION:Addis Ababa - 
URL://indico.ictp.it/event/8354/session/22/contribution/105
END:VEVENT
BEGIN:VEVENT
SUMMARY:Welcome
DTSTART;VALUE=DATE-TIME:20181022T070000Z
DTEND;VALUE=DATE-TIME:20181022T073000Z
DTSTAMP;VALUE=DATE-TIME:20240229T162830Z
UID:indico-contribution-22-0-106@ictp.it
DESCRIPTION:Speakers: H.E. DR. ENG. GETAHUN MEKURIA\; ANSHEBO\, TEKETEL YO
 HANNES\; SERIANI\, NICOLA (Minister\,\nMinistry of Innovation and Technolo
 gy of the Federal Government of\nEthiopia\; Addis Ababa University\, Ethio
 pia\; ICTP\, Italy)\n//indico.ictp.it/event/8354/session/22/contribution/1
 06
LOCATION:Addis Ababa - 
URL://indico.ictp.it/event/8354/session/22/contribution/106
END:VEVENT
BEGIN:VEVENT
SUMMARY:Introduction
DTSTART;VALUE=DATE-TIME:20181022T073000Z
DTEND;VALUE=DATE-TIME:20181022T081500Z
DTSTAMP;VALUE=DATE-TIME:20240229T162830Z
UID:indico-contribution-22-0-107@ictp.it
DESCRIPTION:Speakers: ANSHEBO\, TEKETEL YOHANNES (Addis Ababa University\,
  Ethiopia)\n//indico.ictp.it/event/8354/session/22/contribution/107
LOCATION:Addis Ababa - 
URL://indico.ictp.it/event/8354/session/22/contribution/107
END:VEVENT
BEGIN:VEVENT
SUMMARY:Crystals\, Bloch Th.
DTSTART;VALUE=DATE-TIME:20181022T084500Z
DTEND;VALUE=DATE-TIME:20181022T093500Z
DTSTAMP;VALUE=DATE-TIME:20240229T162830Z
UID:indico-contribution-22-0-108@ictp.it
DESCRIPTION:Speakers: NARASIMHAN\, SHOBHANA (Jawaharlal Nehru Centre for A
 dvanced Scientific Research\, India)\n//indico.ictp.it/event/8354/session/
 22/contribution/108
LOCATION:Addis Ababa - 
URL://indico.ictp.it/event/8354/session/22/contribution/108
END:VEVENT
BEGIN:VEVENT
SUMMARY:Bands\, questions
DTSTART;VALUE=DATE-TIME:20181022T093500Z
DTEND;VALUE=DATE-TIME:20181022T102500Z
DTSTAMP;VALUE=DATE-TIME:20240229T162830Z
UID:indico-contribution-22-0-109@ictp.it
DESCRIPTION:Speakers: SHAIDU\, YUSUF (the International School for Advance
 d Studies\, Italy)\n//indico.ictp.it/event/8354/session/22/contribution/10
 9
LOCATION:Addis Ababa - 
URL://indico.ictp.it/event/8354/session/22/contribution/109
END:VEVENT
BEGIN:VEVENT
SUMMARY:Computer Lab Linux\, Xmgrace\, Xcrysden\, etc.
DTSTART;VALUE=DATE-TIME:20181022T120000Z
DTEND;VALUE=DATE-TIME:20181022T153000Z
DTSTAMP;VALUE=DATE-TIME:20240229T162830Z
UID:indico-contribution-22-0-110@ictp.it
DESCRIPTION:Speakers: THOELE\, FLORIAN & MENTORS/TUTORS (ETH Zurich\, Swit
 zerland)\n//indico.ictp.it/event/8354/session/22/contribution/110
LOCATION:Addis Ababa - 
URL://indico.ictp.it/event/8354/session/22/contribution/110
END:VEVENT
BEGIN:VEVENT
SUMMARY:Evening session (time TBA): Materials science research in Africa
DTSTART;VALUE=DATE-TIME:20181022T170000Z
DTEND;VALUE=DATE-TIME:20181022T180000Z
DTSTAMP;VALUE=DATE-TIME:20240229T162830Z
UID:indico-contribution-22-0-111@ictp.it
DESCRIPTION:Speakers: AMOLO\, GEORGE O. (University of Kenya\, Kenya)\n//i
 ndico.ictp.it/event/8354/session/22/contribution/111
LOCATION:Addis Ababa - 
URL://indico.ictp.it/event/8354/session/22/contribution/111
END:VEVENT
END:VCALENDAR
