BEGIN:VCALENDAR
VERSION:2.0
PRODID:-//CERN//INDICO//EN
BEGIN:VEVENT
SUMMARY:Pseudopotentials\, forces\, relaxation
DTSTART;VALUE=DATE-TIME:20181024T084500Z
DTEND;VALUE=DATE-TIME:20181024T103000Z
DTSTAMP;VALUE=DATE-TIME:20240229T162745Z
UID:indico-contribution-119@ictp.it
DESCRIPTION:Speakers: TBA ()\n//indico.ictp.it/event/8354/session/24/contr
 ibution/119
LOCATION:Addis Ababa - 
URL://indico.ictp.it/event/8354/session/24/contribution/119
END:VEVENT
END:VCALENDAR
