BEGIN:VCALENDAR
VERSION:2.0
PRODID:-//CERN//INDICO//EN
BEGIN:VEVENT
SUMMARY:Evening session (time TBA): How to write a scientific paper
DTSTART;VALUE=DATE-TIME:20181024T170000Z
DTEND;VALUE=DATE-TIME:20181024T180000Z
DTSTAMP;VALUE=DATE-TIME:20240229T162748Z
UID:indico-contribution-121@ictp.it
DESCRIPTION:Speakers: NARASIMHAN\, SHOBHANA (Jawaharlal Nehru Centre for A
 dvanced Scientific Research\, India)\n//indico.ictp.it/event/8354/session/
 24/contribution/121
LOCATION:Addis Ababa - 
URL://indico.ictp.it/event/8354/session/24/contribution/121
END:VEVENT
END:VCALENDAR
