BEGIN:VCALENDAR
VERSION:2.0
PRODID:-//CERN//INDICO//EN
BEGIN:VEVENT
SUMMARY:Computer Lab Phonons in quantum Espresso
DTSTART;VALUE=DATE-TIME:20181025T120000Z
DTEND;VALUE=DATE-TIME:20181025T153000Z
DTSTAMP;VALUE=DATE-TIME:20240229T162712Z
UID:indico-contribution-124@ictp.it
DESCRIPTION:Speakers: TBA ()\n//indico.ictp.it/event/8354/session/25/contr
 ibution/124
LOCATION:Addis Ababa - 
URL://indico.ictp.it/event/8354/session/25/contribution/124
END:VEVENT
END:VCALENDAR
