BEGIN:VCALENDAR
VERSION:2.0
PRODID:-//CERN//INDICO//EN
BEGIN:VEVENT
SUMMARY:Short talk TBA & Projects
DTSTART;VALUE=DATE-TIME:20181031T130000Z
DTEND;VALUE=DATE-TIME:20181031T163000Z
DTSTAMP;VALUE=DATE-TIME:20240229T162812Z
UID:indico-contribution-141@ictp.it
DESCRIPTION:Speakers: \n//indico.ictp.it/event/8354/session/29/contributio
 n/141
LOCATION:Addis Ababa - 
URL://indico.ictp.it/event/8354/session/29/contribution/141
END:VEVENT
END:VCALENDAR
