BEGIN:VCALENDAR
VERSION:2.0
PRODID:-//CERN//INDICO//EN
BEGIN:VEVENT
SUMMARY:Evening session (time TBA): Discussion
DTSTART;VALUE=DATE-TIME:20181031T180000Z
DTEND;VALUE=DATE-TIME:20181031T190000Z
DTSTAMP;VALUE=DATE-TIME:20240229T162834Z
UID:indico-contribution-142@ictp.it
DESCRIPTION:Speakers: \n//indico.ictp.it/event/8354/session/29/contributio
 n/142
LOCATION:Addis Ababa - 
URL://indico.ictp.it/event/8354/session/29/contribution/142
END:VEVENT
END:VCALENDAR
