BEGIN:VCALENDAR
VERSION:2.0
PRODID:-//CERN//INDICO//EN
BEGIN:VEVENT
SUMMARY:Short talk TBA & Projects
DTSTART;VALUE=DATE-TIME:20181101T130000Z
DTEND;VALUE=DATE-TIME:20181101T163000Z
DTSTAMP;VALUE=DATE-TIME:20240229T162825Z
UID:indico-contribution-145@ictp.it
DESCRIPTION:Speakers: \n//indico.ictp.it/event/8354/session/30/contributio
 n/145
LOCATION:Addis Ababa - 
URL://indico.ictp.it/event/8354/session/30/contribution/145
END:VEVENT
END:VCALENDAR
