BEGIN:VCALENDAR
VERSION:2.0
PRODID:-//CERN//INDICO//EN
BEGIN:VEVENT
SUMMARY:short overview of themes
DTSTART;VALUE=DATE-TIME:20190711T070000Z
DTEND;VALUE=DATE-TIME:20190711T071500Z
DTSTAMP;VALUE=DATE-TIME:20240229T220016Z
UID:indico-contribution-10-0-49@ictp.it
DESCRIPTION:Speakers: MULLER\, Caroline (LMD\, France)\n//indico.ictp.it/e
 vent/8669/session/10/contribution/49
LOCATION:ICTP Kastler Lecture Hall (AGH)
URL://indico.ictp.it/event/8669/session/10/contribution/49
END:VEVENT
BEGIN:VEVENT
SUMMARY:Do cloud permitting model represent cloud-radiative-dynamical inte
 ractions adequately? (dynamical = larger scale circulations) - No
DTSTART;VALUE=DATE-TIME:20190711T071500Z
DTEND;VALUE=DATE-TIME:20190711T074500Z
DTSTAMP;VALUE=DATE-TIME:20240229T220016Z
UID:indico-contribution-10-0-50@ictp.it
DESCRIPTION:Speakers: PINCUS\, Rob (U. of Colorado\, USA)\n//indico.ictp.i
 t/event/8669/session/10/contribution/50
LOCATION:ICTP Kastler Lecture Hall (AGH)
URL://indico.ictp.it/event/8669/session/10/contribution/50
END:VEVENT
BEGIN:VEVENT
SUMMARY:Do cloud permitting model represent cloud-radiative-dynamical inte
 ractions adequately? (dynamical = larger scale circulations) - Yes
DTSTART;VALUE=DATE-TIME:20190711T074500Z
DTEND;VALUE=DATE-TIME:20190711T081500Z
DTSTAMP;VALUE=DATE-TIME:20240229T220016Z
UID:indico-contribution-10-0-64@ictp.it
DESCRIPTION:Speakers: ZUIDEMA\, Paquita (RSMAS\, USA)\n//indico.ictp.it/ev
 ent/8669/session/10/contribution/64
LOCATION:ICTP Kastler Lecture Hall (AGH)
URL://indico.ictp.it/event/8669/session/10/contribution/64
END:VEVENT
BEGIN:VEVENT
SUMMARY:discussion
DTSTART;VALUE=DATE-TIME:20190711T081500Z
DTEND;VALUE=DATE-TIME:20190711T083000Z
DTSTAMP;VALUE=DATE-TIME:20240229T220016Z
UID:indico-contribution-10-0-69@ictp.it
DESCRIPTION:Speakers: \n//indico.ictp.it/event/8669/session/10/contributio
 n/69
LOCATION:ICTP Kastler Lecture Hall (AGH)
URL://indico.ictp.it/event/8669/session/10/contribution/69
END:VEVENT
BEGIN:VEVENT
SUMMARY:Subgrid parameterizations of climate models need to represent aggr
 egation - Yes
DTSTART;VALUE=DATE-TIME:20190711T090000Z
DTEND;VALUE=DATE-TIME:20190711T093000Z
DTSTAMP;VALUE=DATE-TIME:20240229T220016Z
UID:indico-contribution-10-0-51@ictp.it
DESCRIPTION:Speakers: MONCRIEFF\, Mitch (UCAR\, USA)\n//indico.ictp.it/eve
 nt/8669/session/10/contribution/51
LOCATION:ICTP Kastler Lecture Hall (AGH)
URL://indico.ictp.it/event/8669/session/10/contribution/51
END:VEVENT
BEGIN:VEVENT
SUMMARY:Subgrid parameterizations of climate models need to represent aggr
 egation - No
DTSTART;VALUE=DATE-TIME:20190711T093000Z
DTEND;VALUE=DATE-TIME:20190711T100000Z
DTSTAMP;VALUE=DATE-TIME:20240229T220016Z
UID:indico-contribution-10-0-65@ictp.it
DESCRIPTION:Speakers: KHOUIDER\, Boualem (Victoria U.\, Canada)\n//indico.
 ictp.it/event/8669/session/10/contribution/65
LOCATION:ICTP Kastler Lecture Hall (AGH)
URL://indico.ictp.it/event/8669/session/10/contribution/65
END:VEVENT
BEGIN:VEVENT
SUMMARY:discussion
DTSTART;VALUE=DATE-TIME:20190711T100000Z
DTEND;VALUE=DATE-TIME:20190711T101500Z
DTSTAMP;VALUE=DATE-TIME:20240229T220016Z
UID:indico-contribution-10-0-66@ictp.it
DESCRIPTION:Speakers: \n//indico.ictp.it/event/8669/session/10/contributio
 n/66
LOCATION:ICTP Kastler Lecture Hall (AGH)
URL://indico.ictp.it/event/8669/session/10/contribution/66
END:VEVENT
BEGIN:VEVENT
SUMMARY:lunch + team work
DTSTART;VALUE=DATE-TIME:20190711T101500Z
DTEND;VALUE=DATE-TIME:20190711T140000Z
DTSTAMP;VALUE=DATE-TIME:20240229T220016Z
UID:indico-contribution-10-0-54@ictp.it
DESCRIPTION:Speakers: \n//indico.ictp.it/event/8669/session/10/contributio
 n/54
LOCATION:ICTP Kastler Lecture Hall (AGH)
URL://indico.ictp.it/event/8669/session/10/contribution/54
END:VEVENT
BEGIN:VEVENT
SUMMARY:Panel leaders summary
DTSTART;VALUE=DATE-TIME:20190711T140000Z
DTEND;VALUE=DATE-TIME:20190711T153000Z
DTSTAMP;VALUE=DATE-TIME:20240229T220016Z
UID:indico-contribution-10-0-55@ictp.it
DESCRIPTION:Speakers: \n//indico.ictp.it/event/8669/session/10/contributio
 n/55
LOCATION:ICTP Kastler Lecture Hall (AGH)
URL://indico.ictp.it/event/8669/session/10/contribution/55
END:VEVENT
BEGIN:VEVENT
SUMMARY:Unforced Errors
DTSTART;VALUE=DATE-TIME:20190711T153000Z
DTEND;VALUE=DATE-TIME:20190711T163000Z
DTSTAMP;VALUE=DATE-TIME:20240229T220016Z
UID:indico-contribution-10-0-56@ictp.it
DESCRIPTION:Speakers: RANDALL\, David (CSU\, USA)\n//indico.ictp.it/event/
 8669/session/10/contribution/56
LOCATION:ICTP Kastler Lecture Hall (AGH)
URL://indico.ictp.it/event/8669/session/10/contribution/56
END:VEVENT
END:VCALENDAR
