BEGIN:VCALENDAR
VERSION:2.0
PRODID:-//CERN//INDICO//EN
BEGIN:VEVENT
SUMMARY:IMPLICATIONS OF AGGREGATION FOR CLIMATE
DTSTART;VALUE=DATE-TIME:20190704T070000Z
DTEND;VALUE=DATE-TIME:20190704T083000Z
DTSTAMP;VALUE=DATE-TIME:20240229T220050Z
UID:indico-contribution-25@ictp.it
DESCRIPTION:Speakers: HOLLOWAY\, Chris (U. of Reading\, U.K.)\n//indico.ic
 tp.it/event/8669/session/6/contribution/25
LOCATION:ICTP Kastler Lecture Hall (AGH)
URL://indico.ictp.it/event/8669/session/6/contribution/25
END:VEVENT
END:VCALENDAR
