BEGIN:VCALENDAR
VERSION:2.0
PRODID:-//CERN//INDICO//EN
BEGIN:VEVENT
SUMMARY:lab session
DTSTART;VALUE=DATE-TIME:20190704T120000Z
DTEND;VALUE=DATE-TIME:20190704T133000Z
DTSTAMP;VALUE=DATE-TIME:20240229T220024Z
UID:indico-contribution-27@ictp.it
DESCRIPTION:Speakers: \n//indico.ictp.it/event/8669/session/6/contribution
 /27
LOCATION:ICTP Adriatico Guest House - Informatics Laboratory
URL://indico.ictp.it/event/8669/session/6/contribution/27
END:VEVENT
END:VCALENDAR
