BEGIN:VCALENDAR
VERSION:2.0
PRODID:-//CERN//INDICO//EN
BEGIN:VEVENT
SUMMARY:Have convection modellers ignored basic theory\, and does it matte
 r?
DTSTART;VALUE=DATE-TIME:20190709T153000Z
DTEND;VALUE=DATE-TIME:20190709T163000Z
DTSTAMP;VALUE=DATE-TIME:20240229T220023Z
UID:indico-contribution-38@ictp.it
DESCRIPTION:Speakers: VALLIS\, Geoffrey (Exeter U.\, U.K.)\n//indico.ictp.
 it/event/8669/session/8/contribution/38
LOCATION:ICTP Kastler Lecture Hall (AGH)
URL://indico.ictp.it/event/8669/session/8/contribution/38
END:VEVENT
END:VCALENDAR
