BEGIN:VCALENDAR
VERSION:2.0
PRODID:-//CERN//INDICO//EN
BEGIN:VEVENT
SUMMARY:open discussion
DTSTART;VALUE=DATE-TIME:20190709T100000Z
DTEND;VALUE=DATE-TIME:20190709T103000Z
DTSTAMP;VALUE=DATE-TIME:20240229T215932Z
UID:indico-contribution-63@ictp.it
DESCRIPTION:Speakers: \n//indico.ictp.it/event/8669/session/8/contribution
 /63
LOCATION:ICTP Kastler Lecture Hall (AGH)
URL://indico.ictp.it/event/8669/session/8/contribution/63
END:VEVENT
END:VCALENDAR
