BEGIN:VCALENDAR
VERSION:2.0
PRODID:-//CERN//INDICO//EN
BEGIN:VEVENT
SUMMARY:short overview of themes
DTSTART;VALUE=DATE-TIME:20190710T070000Z
DTEND;VALUE=DATE-TIME:20190710T071500Z
DTSTAMP;VALUE=DATE-TIME:20240229T220214Z
UID:indico-contribution-39@ictp.it
DESCRIPTION:Speakers: HOHENEGGER\, Cathy (MPI\, Germany)\n//indico.ictp.it
 /event/8669/session/9/contribution/39
LOCATION:ICTP Kastler Lecture Hall (AGH)
URL://indico.ictp.it/event/8669/session/9/contribution/39
END:VEVENT
END:VCALENDAR
