BEGIN:VCALENDAR
VERSION:2.0
PRODID:-//CERN//INDICO//EN
BEGIN:VEVENT
SUMMARY:Self aggregation is driven by buoyancy heterogeneities in the boun
 dary layer
DTSTART;VALUE=DATE-TIME:20190710T074500Z
DTEND;VALUE=DATE-TIME:20190710T081500Z
DTSTAMP;VALUE=DATE-TIME:20240229T220000Z
UID:indico-contribution-41@ictp.it
DESCRIPTION:Speakers: YANG\, Da (Berkley U.\, USA)\n//indico.ictp.it/event
 /8669/session/9/contribution/41
LOCATION:ICTP Kastler Lecture Hall (AGH)
URL://indico.ictp.it/event/8669/session/9/contribution/41
END:VEVENT
END:VCALENDAR
