BEGIN:VCALENDAR
VERSION:2.0
PRODID:-//CERN//INDICO//EN
BEGIN:VEVENT
SUMMARY:Research and Development activities carried out in the Telecommuni
 cations Laboratory of the National University of Tucumán
DTSTART;VALUE=DATE-TIME:20190528T135000Z
DTEND;VALUE=DATE-TIME:20190528T141000Z
DTSTAMP;VALUE=DATE-TIME:20240229T222500Z
UID:indico-contribution-43@ictp.it
DESCRIPTION:Speakers: Z. SAAVEDRA ET AL (National University of Tucumán\,
  Argentina)\n//indico.ictp.it/event/8686/session/10/contribution/43
LOCATION:ICTP Giambiagi Lecture Hall (AGH)
URL://indico.ictp.it/event/8686/session/10/contribution/43
END:VEVENT
END:VCALENDAR
