BEGIN:VCALENDAR
VERSION:2.0
PRODID:-//CERN//INDICO//EN
BEGIN:VEVENT
SUMMARY:Recent results about ionospheric and GNSS research at the Universi
 ty of Rijeka\, Croatia
DTSTART;VALUE=DATE-TIME:20190528T143000Z
DTEND;VALUE=DATE-TIME:20190528T145000Z
DTSTAMP;VALUE=DATE-TIME:20240229T222448Z
UID:indico-contribution-73@ictp.it
DESCRIPTION:Speakers: R. FILJAR ET AL (University of Rijeka\, Croatia)\n//
 indico.ictp.it/event/8686/session/10/contribution/73
LOCATION:ICTP Giambiagi Lecture Hall (AGH)
URL://indico.ictp.it/event/8686/session/10/contribution/73
END:VEVENT
END:VCALENDAR
