BEGIN:VCALENDAR
VERSION:2.0
PRODID:-//CERN//INDICO//EN
BEGIN:VEVENT
SUMMARY:Introduction to Ionospheric Forecasting
DTSTART;VALUE=DATE-TIME:20190529T070000Z
DTEND;VALUE=DATE-TIME:20190529T080000Z
DTSTAMP;VALUE=DATE-TIME:20240229T222359Z
UID:indico-contribution-11-0-48@ictp.it
DESCRIPTION:Speakers: S. M. RADICELLA (ICTP\, Italy)\n//indico.ictp.it/eve
 nt/8686/session/11/contribution/48
LOCATION:ICTP Adriatico Guest House - Giambiagi Lecture Hall
URL://indico.ictp.it/event/8686/session/11/contribution/48
END:VEVENT
BEGIN:VEVENT
SUMMARY:Introduction to Ionospheric irregularities and scintillations
DTSTART;VALUE=DATE-TIME:20190529T083000Z
DTEND;VALUE=DATE-TIME:20190529T100000Z
DTSTAMP;VALUE=DATE-TIME:20240229T222359Z
UID:indico-contribution-11-0-49@ictp.it
DESCRIPTION:Speakers: K. GROVES (BC\, USA)\n//indico.ictp.it/event/8686/se
 ssion/11/contribution/49
LOCATION:ICTP Adriatico Guest House - Giambiagi Lecture Hall
URL://indico.ictp.it/event/8686/session/11/contribution/49
END:VEVENT
BEGIN:VEVENT
SUMMARY:Ionospheric storms and GNSS data
DTSTART;VALUE=DATE-TIME:20190529T120000Z
DTEND;VALUE=DATE-TIME:20190529T130000Z
DTSTAMP;VALUE=DATE-TIME:20240229T222359Z
UID:indico-contribution-11-0-50@ictp.it
DESCRIPTION:Speakers: A. COSTER (MIT\, USA)\n//indico.ictp.it/event/8686/s
 ession/11/contribution/50
LOCATION:ICTP Adriatico Guest House - Giambiagi Lecture Hall
URL://indico.ictp.it/event/8686/session/11/contribution/50
END:VEVENT
END:VCALENDAR
