BEGIN:VCALENDAR
VERSION:2.0
PRODID:-//CERN//INDICO//EN
BEGIN:VEVENT
SUMMARY:Introduction to GNSS reflectometry
DTSTART;VALUE=DATE-TIME:20190530T070000Z
DTEND;VALUE=DATE-TIME:20190530T080000Z
DTSTAMP;VALUE=DATE-TIME:20240229T222345Z
UID:indico-contribution-57@ictp.it
DESCRIPTION:Speakers: J. GARRISON (Pordue University\, USA)\n//indico.ictp
 .it/event/8686/session/13/contribution/57
LOCATION:ICTP Adriatico Guest House - Giambiagi Lecture Hall
URL://indico.ictp.it/event/8686/session/13/contribution/57
END:VEVENT
END:VCALENDAR
