BEGIN:VCALENDAR
VERSION:2.0
PRODID:-//CERN//INDICO//EN
BEGIN:VEVENT
SUMMARY:Variabilities of vertical total electron content and amplitude sci
 ntillation of radio waves at different temporal scales over two low latitu
 de SCINDA GPS stations
DTSTART;VALUE=DATE-TIME:20190530T135000Z
DTEND;VALUE=DATE-TIME:20190530T141000Z
DTSTAMP;VALUE=DATE-TIME:20240229T222434Z
UID:indico-contribution-60@ictp.it
DESCRIPTION:Speakers: Y. T. TESFU (Ethiopian Space Science and Technology 
 Institute\, Ethiopia)\n//indico.ictp.it/event/8686/session/14/contribution
 /60
LOCATION:ICTP Adriatico Guest House - Giambiagi Lecture Hall
URL://indico.ictp.it/event/8686/session/14/contribution/60
END:VEVENT
END:VCALENDAR
