BEGIN:VCALENDAR
VERSION:2.0
PRODID:-//CERN//INDICO//EN
BEGIN:VEVENT
SUMMARY:Registration and Administrative Matters
DTSTART;VALUE=DATE-TIME:20190527T063000Z
DTEND;VALUE=DATE-TIME:20190527T073000Z
DTSTAMP;VALUE=DATE-TIME:20240229T222452Z
UID:indico-contribution-33@ictp.it
DESCRIPTION:Speakers: \nREGISTRATION: Upon arrival\, Visitors not staying 
 in the ICTP Guest Houses\, are kindly requested to complete registration f
 ormalities at the Adriatico Guesthouse Lower level from 8.30 till 9.30\n\n
 TRAVEL UNIT (Only for those Visitors receiving daily living allowance/trav
 el reimbursement\, who have not provided their bank account data through t
 he on-line portal)  \nOnly after having completed registration formalities
 \, please go to the Travel Unit\, EF\, Main Entrance\, Room T17\, ground f
 loor\, open two days:  Monday and Friday\, 08.30 - 12.00  and 13.30 - 14.3
 0\nPlease bring with you: badge/identity card or passport/any travel ticke
 ts and boarding passes\, if reimbursement due.\n\n//indico.ictp.it/event/8
 686/session/8/contribution/33
LOCATION:ICTP Adriatico Guest House - (Lower Level 1)
URL://indico.ictp.it/event/8686/session/8/contribution/33
END:VEVENT
END:VCALENDAR
