BEGIN:VCALENDAR
VERSION:2.0
PRODID:-//CERN//INDICO//EN
BEGIN:VEVENT
SUMMARY:Advanced GNSS
DTSTART;VALUE=DATE-TIME:20190527T120000Z
DTEND;VALUE=DATE-TIME:20190527T130000Z
DTSTAMP;VALUE=DATE-TIME:20240229T222320Z
UID:indico-contribution-37@ictp.it
DESCRIPTION:Speakers: J. RAQUET (AF Institute of Technology\, USA)\n//indi
 co.ictp.it/event/8686/session/8/contribution/37
LOCATION:ICTP Adriatico Guest House - Giambiagi Lecture Hall
URL://indico.ictp.it/event/8686/session/8/contribution/37
END:VEVENT
END:VCALENDAR
