BEGIN:VCALENDAR
VERSION:2.0
PRODID:-//CERN//INDICO//EN
BEGIN:VEVENT
SUMMARY:Lecture 10: Compositional classification of archaeological ceramic
 s: Principle and examples of application
DTSTART;VALUE=DATE-TIME:20190605T084500Z
DTEND;VALUE=DATE-TIME:20190605T101500Z
DTSTAMP;VALUE=DATE-TIME:20240229T222037Z
UID:indico-contribution-16@ictp.it
DESCRIPTION:Speakers: PADILLA ALVAREZ\, R. (IAEA)\n//indico.ictp.it/event/
 8689/session/2/contribution/16
LOCATION:ICTP Giambiagi Lecture Hall (AGH) 3-7 JuneKastler Lecture Hall (
 AGH) 10-14 June
URL://indico.ictp.it/event/8689/session/2/contribution/16
END:VEVENT
END:VCALENDAR
