BEGIN:VCALENDAR
VERSION:2.0
PRODID:-//CERN//INDICO//EN
BEGIN:VEVENT
SUMMARY:Lecture 17: Design of transportable XRF units: Considerations and 
 options
DTSTART;VALUE=DATE-TIME:20190607T120000Z
DTEND;VALUE=DATE-TIME:20190607T124500Z
DTSTAMP;VALUE=DATE-TIME:20240229T221955Z
UID:indico-contribution-28@ictp.it
DESCRIPTION:Speakers: CRESPO\, M.L. (ICTP)\, PADILLA ALVAREZ\, R. (IAEA)\n
 //indico.ictp.it/event/8689/session/4/contribution/28
LOCATION:ICTP Giambiagi Lecture Hall (AGH) 3-7 JuneKastler Lecture Hall (
 AGH) 10-14 June
URL://indico.ictp.it/event/8689/session/4/contribution/28
END:VEVENT
END:VCALENDAR
