BEGIN:VCALENDAR
VERSION:2.0
PRODID:-//CERN//INDICO//EN
BEGIN:VEVENT
SUMMARY:Lecture 20: Design of XRF scanners for inspection of paintings and
  creation of elemental maps.
DTSTART;VALUE=DATE-TIME:20190611T070000Z
DTEND;VALUE=DATE-TIME:20190611T074500Z
DTSTAMP;VALUE=DATE-TIME:20240229T222140Z
UID:indico-contribution-38@ictp.it
DESCRIPTION:Speakers: ROMANO\, P. (INFN Catania)\n//indico.ictp.it/event/8
 689/session/6/contribution/38
LOCATION:ICTP Giambiagi Lecture Hall (AGH) 3-7 JuneKastler Lecture Hall (
 AGH) 10-14 June
URL://indico.ictp.it/event/8689/session/6/contribution/38
END:VEVENT
END:VCALENDAR
