BEGIN:VCALENDAR
VERSION:2.0
PRODID:-//CERN//INDICO//EN
BEGIN:VEVENT
SUMMARY:Practical Demonstration 10: Creation of elemental maps
DTSTART;VALUE=DATE-TIME:20190612T070000Z
DTEND;VALUE=DATE-TIME:20190612T074500Z
DTSTAMP;VALUE=DATE-TIME:20240229T222110Z
UID:indico-contribution-44@ictp.it
DESCRIPTION:Speakers: ROMANO\, P. (INFN Catania)\, CALIRI\, C. (INFN Catan
 ia)\n//indico.ictp.it/event/8689/session/7/contribution/44
LOCATION:ICTP Giambiagi Lecture Hall (AGH) 3-7 JuneKastler Lecture Hall (
 AGH) 10-14 June
URL://indico.ictp.it/event/8689/session/7/contribution/44
END:VEVENT
END:VCALENDAR
