BEGIN:VCALENDAR
VERSION:2.0
PRODID:-//CERN//INDICO//EN
BEGIN:VEVENT
SUMMARY:Practical Demonstration 10: Creation of elemental maps
DTSTART;VALUE=DATE-TIME:20190612T070000Z
DTEND;VALUE=DATE-TIME:20190612T074500Z
DTSTAMP;VALUE=DATE-TIME:20240229T222017Z
UID:indico-contribution-7-0-44@ictp.it
DESCRIPTION:Speakers: ROMANO\, P. (INFN Catania)\, CALIRI\, C. (INFN Catan
 ia)\n//indico.ictp.it/event/8689/session/7/contribution/44
LOCATION:ICTP Giambiagi Lecture Hall (AGH) 3-7 JuneKastler Lecture Hall (
 AGH) 10-14 June
URL://indico.ictp.it/event/8689/session/7/contribution/44
END:VEVENT
BEGIN:VEVENT
SUMMARY:Practical Demonstration 10: Interpretation of elemental maps
DTSTART;VALUE=DATE-TIME:20190612T074500Z
DTEND;VALUE=DATE-TIME:20190612T083000Z
DTSTAMP;VALUE=DATE-TIME:20240229T222017Z
UID:indico-contribution-7-0-45@ictp.it
DESCRIPTION:Speakers: ROMANO\, P. (INFN Catania)\n//indico.ictp.it/event/8
 689/session/7/contribution/45
LOCATION:ICTP Giambiagi Lecture Hall (AGH) 3-7 JuneKastler Lecture Hall (
 AGH) 10-14 June
URL://indico.ictp.it/event/8689/session/7/contribution/45
END:VEVENT
BEGIN:VEVENT
SUMMARY:Lecture 22: Micro XRF transportable instruments: Principle\, desig
 n and practical consideration
DTSTART;VALUE=DATE-TIME:20190612T084500Z
DTEND;VALUE=DATE-TIME:20190612T093000Z
DTSTAMP;VALUE=DATE-TIME:20240229T222017Z
UID:indico-contribution-7-0-46@ictp.it
DESCRIPTION:Speakers: GRIESSER\, M. (Kunsthistorisches Museum Vienna)\n//i
 ndico.ictp.it/event/8689/session/7/contribution/46
LOCATION:ICTP Giambiagi Lecture Hall (AGH) 3-7 JuneKastler Lecture Hall (
 AGH) 10-14 June
URL://indico.ictp.it/event/8689/session/7/contribution/46
END:VEVENT
BEGIN:VEVENT
SUMMARY:Lecture 23: Characterization of paintings and manuscripts/charters
  using micro-XRF
DTSTART;VALUE=DATE-TIME:20190612T093000Z
DTEND;VALUE=DATE-TIME:20190612T101500Z
DTSTAMP;VALUE=DATE-TIME:20240229T222017Z
UID:indico-contribution-7-0-47@ictp.it
DESCRIPTION:Speakers: GRIESSER\, M. (Kunsthistorisches Museum Vienna)\n//i
 ndico.ictp.it/event/8689/session/7/contribution/47
LOCATION:ICTP Giambiagi Lecture Hall (AGH) 3-7 JuneKastler Lecture Hall (
 AGH) 10-14 June
URL://indico.ictp.it/event/8689/session/7/contribution/47
END:VEVENT
BEGIN:VEVENT
SUMMARY:Lecture 24: Characterization of coins using micro-XRF
DTSTART;VALUE=DATE-TIME:20190612T120000Z
DTEND;VALUE=DATE-TIME:20190612T124500Z
DTSTAMP;VALUE=DATE-TIME:20240229T222017Z
UID:indico-contribution-7-0-48@ictp.it
DESCRIPTION:Speakers: GRIESSER\, M. (Kunsthistorisches Museum Vienna)\n//i
 ndico.ictp.it/event/8689/session/7/contribution/48
LOCATION:ICTP Giambiagi Lecture Hall (AGH) 3-7 JuneKastler Lecture Hall (
 AGH) 10-14 June
URL://indico.ictp.it/event/8689/session/7/contribution/48
END:VEVENT
BEGIN:VEVENT
SUMMARY:Lecture 25: Characterization of historic texts using micro-XRF
DTSTART;VALUE=DATE-TIME:20190612T124500Z
DTEND;VALUE=DATE-TIME:20190612T133000Z
DTSTAMP;VALUE=DATE-TIME:20240229T222017Z
UID:indico-contribution-7-0-49@ictp.it
DESCRIPTION:Speakers: GRIESSER\, M. (Kunsthistorisches Museum Vienna)\n//i
 ndico.ictp.it/event/8689/session/7/contribution/49
LOCATION:ICTP Giambiagi Lecture Hall (AGH) 3-7 JuneKastler Lecture Hall (
 AGH) 10-14 June
URL://indico.ictp.it/event/8689/session/7/contribution/49
END:VEVENT
BEGIN:VEVENT
SUMMARY:Lecture 26: Characterization of glass and enamel using micro-XRF
DTSTART;VALUE=DATE-TIME:20190612T134500Z
DTEND;VALUE=DATE-TIME:20190612T143000Z
DTSTAMP;VALUE=DATE-TIME:20240229T222017Z
UID:indico-contribution-7-0-50@ictp.it
DESCRIPTION:Speakers: MIGLIORI\, A. (IAEA)\, GRIESSER\, M. (Kunsthistorisc
 hes Museum Vienna)\n//indico.ictp.it/event/8689/session/7/contribution/50
LOCATION:ICTP Giambiagi Lecture Hall (AGH) 3-7 JuneKastler Lecture Hall (
 AGH) 10-14 June
URL://indico.ictp.it/event/8689/session/7/contribution/50
END:VEVENT
END:VCALENDAR
