BEGIN:VCALENDAR
VERSION:2.0
PRODID:-//CERN//INDICO//EN
BEGIN:VEVENT
SUMMARY:Practical Demonstration 12: Measurement of coins using micro-XRF
DTSTART;VALUE=DATE-TIME:20190613T070000Z
DTEND;VALUE=DATE-TIME:20190613T074500Z
DTSTAMP;VALUE=DATE-TIME:20240229T222047Z
UID:indico-contribution-8-0-51@ictp.it
DESCRIPTION:Speakers: MIGLIORI\, A. (IAEA)\, GRIESSER\, M. (Kunsthistorisc
 hes Museum Vienna)\n//indico.ictp.it/event/8689/session/8/contribution/51
LOCATION:ICTP MLab
URL://indico.ictp.it/event/8689/session/8/contribution/51
END:VEVENT
BEGIN:VEVENT
SUMMARY:Practical Demonstration 12: Measurement of pigments/dyes/inks in m
 anuscripts and charters using micro-XRF
DTSTART;VALUE=DATE-TIME:20190613T074500Z
DTEND;VALUE=DATE-TIME:20190613T083000Z
DTSTAMP;VALUE=DATE-TIME:20240229T222047Z
UID:indico-contribution-8-0-52@ictp.it
DESCRIPTION:Speakers: MIGLIORI\, A. (IAEA)\, GRIESSER\, M. (Kunsthistorisc
 hes Museum Vienna)\n//indico.ictp.it/event/8689/session/8/contribution/52
LOCATION:ICTP MLab
URL://indico.ictp.it/event/8689/session/8/contribution/52
END:VEVENT
BEGIN:VEVENT
SUMMARY:Practical Demonstration 12: Measurement of ceramic glazes using mi
 cro-XRF
DTSTART;VALUE=DATE-TIME:20190613T084500Z
DTEND;VALUE=DATE-TIME:20190613T093000Z
DTSTAMP;VALUE=DATE-TIME:20240229T222047Z
UID:indico-contribution-8-0-53@ictp.it
DESCRIPTION:Speakers: MIGLIORI\, A. (IAEA)\, GRIESSER\, M. (Kunsthistorisc
 hes Museum Vienna)\n//indico.ictp.it/event/8689/session/8/contribution/53
LOCATION:ICTP MLab
URL://indico.ictp.it/event/8689/session/8/contribution/53
END:VEVENT
BEGIN:VEVENT
SUMMARY:Practical Demonstration 12: Measurement of glass and enamel using 
 micro-XRF
DTSTART;VALUE=DATE-TIME:20190613T093000Z
DTEND;VALUE=DATE-TIME:20190613T101500Z
DTSTAMP;VALUE=DATE-TIME:20240229T222047Z
UID:indico-contribution-8-0-54@ictp.it
DESCRIPTION:Speakers: MIGLIORI\, A. (IAEA)\, GRIESSER\, M. (Kunsthistorisc
 hes Museum Vienna)\n//indico.ictp.it/event/8689/session/8/contribution/54
LOCATION:ICTP MLab
URL://indico.ictp.it/event/8689/session/8/contribution/54
END:VEVENT
BEGIN:VEVENT
SUMMARY:Practical Demonstration 12: Measurement of paintings using micro-X
 RF
DTSTART;VALUE=DATE-TIME:20190613T120000Z
DTEND;VALUE=DATE-TIME:20190613T133000Z
DTSTAMP;VALUE=DATE-TIME:20240229T222047Z
UID:indico-contribution-8-0-55@ictp.it
DESCRIPTION:Speakers: MIGLIORI\, A. (IAEA)\, GRIESSER\, M. (Kunsthistorisc
 hes Museum Vienna)\n//indico.ictp.it/event/8689/session/8/contribution/55
LOCATION:ICTP MLab
URL://indico.ictp.it/event/8689/session/8/contribution/55
END:VEVENT
BEGIN:VEVENT
SUMMARY:Practical Demonstration 12: Measurement of paintings using micro-X
 RF
DTSTART;VALUE=DATE-TIME:20190613T134500Z
DTEND;VALUE=DATE-TIME:20190613T143000Z
DTSTAMP;VALUE=DATE-TIME:20240229T222047Z
UID:indico-contribution-8-0-56@ictp.it
DESCRIPTION:Speakers: MIGLIORI\, A. (IAEA)\, GRIESSER\, M. (Kunsthistorisc
 hes Museum Vienna)\n//indico.ictp.it/event/8689/session/8/contribution/56
LOCATION:ICTP MLab
URL://indico.ictp.it/event/8689/session/8/contribution/56
END:VEVENT
END:VCALENDAR
