BEGIN:VCALENDAR
VERSION:2.0
PRODID:-//CERN//INDICO//EN
BEGIN:VEVENT
SUMMARY:Conclusions and official closure
DTSTART;VALUE=DATE-TIME:20190614T093000Z
DTEND;VALUE=DATE-TIME:20190614T101500Z
DTSTAMP;VALUE=DATE-TIME:20240229T221945Z
UID:indico-contribution-59@ictp.it
DESCRIPTION:Speakers: \n//indico.ictp.it/event/8689/session/9/contribution
 /59
LOCATION:ICTP Giambiagi Lecture Hall (AGH) 3-7 JuneKastler Lecture Hall (
 AGH) 10-14 June
URL://indico.ictp.it/event/8689/session/9/contribution/59
END:VEVENT
END:VCALENDAR
