BEGIN:VCALENDAR
VERSION:2.0
PRODID:-//CERN//INDICO//EN
BEGIN:VEVENT
SUMMARY:Invited talk 4 “That kind of motion we call heat: control of the
  heat current\, symmetry breaking and Onsager relations”
DTSTART;VALUE=DATE-TIME:20190625T070000Z
DTEND;VALUE=DATE-TIME:20190625T074500Z
DTSTAMP;VALUE=DATE-TIME:20240229T220815Z
UID:indico-contribution-14@ictp.it
DESCRIPTION:Speakers: GIULIO CASATI ()\n//indico.ictp.it/event/8693/sessio
 n/5/contribution/14
LOCATION:ICTP Adriatico Guest House - Kastler Lecture Hall
URL://indico.ictp.it/event/8693/session/5/contribution/14
END:VEVENT
END:VCALENDAR
